BEGIN:VCALENDAR
VERSION:2.0
PRODID:-//https://royalheights-nz.rwoffice1.com/nz/west-harbour/3481085///NONSGML kigkonsult.se iCalcreator 2.10.23//
BEGIN:VTIMEZONE
TZID:
END:VTIMEZONE
BEGIN:VEVENT
UID:20260421T194702UTC-0894mUFncG@https://royalheights-nz.rwoffice1.com/nz/
 west-harbour/3481085/
DTSTAMP:20260421T194702Z
ATTENDEE:MAILTO:farah.farahani@raywhite.com
DESCRIPTION:Auction Time\n		West Harbour\, 7 Cherub Place\n		Property Price
 : Auction 29/04/26 At 11am (unless Sold Prior)Property Type: House\n		Beds
 : 4   Baths: 2   Car Spaces: 6\n\n		View details: https://royalheights-nz.
 rwoffice1.com/nz/west-harbour/3481085/\n\n		Agent: Farah Farahani\n			 Ema
 il: farah.farahani@raywhite.com\n\n		Ray White recommends confirming the A
 uction Time times with the Agent\, to ensure they have not changed.
DTSTART:20260429T110000
LOCATION:West Harbour\, 7 Cherub Place
SUMMARY:Auction - West Harbour\, 7 Cherub Place
END:VEVENT
END:VCALENDAR
