BEGIN:VCALENDAR
VERSION:2.0
PRODID:-//https://royalheights-nz.rwoffice1.com/nz/mangere/3369784///NONSGML kigkonsult.se iCalcreator 2.10.23//
BEGIN:VTIMEZONE
TZID:
END:VTIMEZONE
BEGIN:VEVENT
UID:20260421T194738UTC-20748ijtBi@https://royalheights-nz.rwoffice1.com/nz/
 mangere/3369784/
DTSTAMP:20260421T194738Z
ATTENDEE:MAILTO:hachache@raywhite.com
DESCRIPTION:Open For Inspection Time\n		Mangere\, 2/9 Cornwall Road\n		Prop
 erty Price: $629\,000Property Type: House\n		Beds: 3   Baths: 1   Car Spac
 es: 3\n\n		View details: https://royalheights-nz.rwoffice1.com/nz/mangere/
 3369784/\n\n		Agent: Ronald and Natalie Hachache\n			 Email: hachache@rayw
 hite.com\n\n		Ray White recommends confirming the Open For Inspection Time
  times with the Agent\, to ensure they have not changed.
DTSTART:20260424T120000
DTEND:20260424T123000
LOCATION:Mangere\, 2/9 Cornwall Road
SUMMARY:Inspection - Mangere\, 2/9 Cornwall Road
END:VEVENT
END:VCALENDAR
