BEGIN:VCALENDAR
VERSION:2.0
PRODID:-//https://royalheights-nz.rwoffice1.com/nz/massey/3451761///NONSGML kigkonsult.se iCalcreator 2.10.23//
BEGIN:VTIMEZONE
TZID:
END:VTIMEZONE
BEGIN:VEVENT
UID:20260421T194856UTC-0085NIXsfZ@https://royalheights-nz.rwoffice1.com/nz/
 massey/3451761/
DTSTAMP:20260421T194856Z
ATTENDEE:MAILTO:hachache@raywhite.com
DESCRIPTION:Open For Inspection Time\n		Massey\, 30 Aldern Road\n		Property
  Price: Enquiries Over $849\,000Property Type: House\n		Beds: 3   Baths: 2
    Car Spaces: 1\n\n		View details: https://royalheights-nz.rwoffice1.com/
 nz/massey/3451761/\n\n		Agent: Ronald and Natalie Hachache\n			 Email: hac
 hache@raywhite.com\n\n		Ray White recommends confirming the Open For Inspe
 ction Time times with the Agent\, to ensure they have not changed.
DTSTART:20260426T131500
DTEND:20260426T134500
LOCATION:Massey\, 30 Aldern Road
SUMMARY:Inspection - Massey\, 30 Aldern Road
END:VEVENT
END:VCALENDAR
