BEGIN:VCALENDAR
VERSION:2.0
PRODID:-//https://royalheights-nz.rwoffice1.com/nz/remuera/3453694///NONSGML kigkonsult.se iCalcreator 2.10.23//
BEGIN:VTIMEZONE
TZID:
END:VTIMEZONE
BEGIN:VEVENT
UID:20260421T194855UTC-9977vsuVg8@https://royalheights-nz.rwoffice1.com/nz/
 remuera/3453694/
DTSTAMP:20260421T194855Z
ATTENDEE:MAILTO:hannah.moloney@raywhite.com
DESCRIPTION:Open For Inspection Time\n		Remuera\, 3D Laxon Terrace\n		Prope
 rty Price: Price By NegotiationProperty Type: Townhouse\n		Beds: 3   Baths
 : 2   Car Spaces: 2\n\n		View details: https://royalheights-nz.rwoffice1.c
 om/nz/remuera/3453694/\n\n		Agent: Hannah Moloney\n			 Email: hannah.molon
 ey@raywhite.com\n\n		Ray White recommends confirming the Open For Inspecti
 on Time times with the Agent\, to ensure they have not changed.
DTSTART:20260426T121500
DTEND:20260426T124500
LOCATION:Remuera\, 3D Laxon Terrace
SUMMARY:Inspection - Remuera\, 3D Laxon Terrace
END:VEVENT
END:VCALENDAR
