BEGIN:VCALENDAR
VERSION:2.0
PRODID:-//https://royalheights-nz.rwoffice1.com/nz/henderson/3459485///NONSGML kigkonsult.se iCalcreator 2.10.23//
BEGIN:VTIMEZONE
TZID:
END:VTIMEZONE
BEGIN:VEVENT
UID:20260421T194840UTC-3662CbfNJk@https://royalheights-nz.rwoffice1.com/nz/
 henderson/3459485/
DTSTAMP:20260421T194840Z
ATTENDEE:MAILTO:karl.weller@raywhite.com
DESCRIPTION:Open For Inspection Time\n		Henderson\, 27 Ara Mara Hua \n		Pro
 perty Price: Enquiries Over $689\,000Property Type: Townhouse\n		Beds: 3  
  Baths: 2   Car Spaces: 2\n\n		View details: https://royalheights-nz.rwoff
 ice1.com/nz/henderson/3459485/\n\n		Agent: Karl Weller\n			 Email: karl.we
 ller@raywhite.com\n\n		Ray White recommends confirming the Open For Inspec
 tion Time times with the Agent\, to ensure they have not changed.
DTSTART:20260425T120000
DTEND:20260425T123000
LOCATION:Henderson\, 27 Ara Mara Hua 
SUMMARY:Inspection - Henderson\, 27 Ara Mara Hua 
END:VEVENT
END:VCALENDAR
