BEGIN:VCALENDAR
VERSION:2.0
PRODID:-//https://royalheights-nz.rwoffice1.com/nz/te-atatu-peninsula/3464839///NONSGML kigkonsult.se iCalcreator 2.10.23//
BEGIN:VTIMEZONE
TZID:
END:VTIMEZONE
BEGIN:VEVENT
UID:20260421T194725UTC-0434bGrlZI@https://royalheights-nz.rwoffice1.com/nz/
 te-atatu-peninsula/3464839/
DTSTAMP:20260421T194725Z
ATTENDEE:MAILTO:hachache@raywhite.com
DESCRIPTION:Open For Inspection Time\n		Te Atatu Peninsula\, 9 Stokes Avenu
 e\n		Property Price: $1\,495\,000Property Type: House\n		Beds: 6   Baths: 
 2   \n\n		View details: https://royalheights-nz.rwoffice1.com/nz/te-atatu-
 peninsula/3464839/\n\n		Agent: Ronald and Natalie Hachache\n			 Email: hac
 hache@raywhite.com\n\n		Ray White recommends confirming the Open For Inspe
 ction Time times with the Agent\, to ensure they have not changed.
DTSTART:20260426T153000
DTEND:20260426T160000
LOCATION:Te Atatu Peninsula\, 9 Stokes Avenue
SUMMARY:Inspection - Te Atatu Peninsula\, 9 Stokes Avenue
END:VEVENT
END:VCALENDAR
