BEGIN:VCALENDAR
VERSION:2.0
PRODID:-//https://royalheights-nz.rwoffice1.com/nz/helensville/3466551///NONSGML kigkonsult.se iCalcreator 2.10.23//
BEGIN:VTIMEZONE
TZID:
END:VTIMEZONE
BEGIN:VEVENT
UID:20260421T194911UTC-5646vtDdnj@https://royalheights-nz.rwoffice1.com/nz/
 helensville/3466551/
DTSTAMP:20260421T194911Z
ATTENDEE:MAILTO:josh.grimstock@raywhite.com
DESCRIPTION:Open For Inspection Time\n		Helensville\, 40 Puriri Street\n		P
 roperty Price: $729\,000Property Type: House\n		Beds: 4   Baths: 1   \n\n	
 	View details: https://royalheights-nz.rwoffice1.com/nz/helensville/346655
 1/\n\n		Agent: Josh Grimstock\n			 Email: josh.grimstock@raywhite.com\n			
  Mobile: +64 22 061 3233\n			 Phone: +64 (9) 412 5808\n\n		Ray White recom
 mends confirming the Open For Inspection Time times with the Agent\, to en
 sure they have not changed.
DTSTART:20260426T113000
DTEND:20260426T120000
LOCATION:Helensville\, 40 Puriri Street
SUMMARY:Inspection - Helensville\, 40 Puriri Street
END:VEVENT
END:VCALENDAR
