BEGIN:VCALENDAR
VERSION:2.0
PRODID:-//https://royalheights-nz.rwoffice1.com/nz/massey/3468901///NONSGML kigkonsult.se iCalcreator 2.10.23//
BEGIN:VTIMEZONE
TZID:
END:VTIMEZONE
BEGIN:VEVENT
UID:20260421T194834UTC-6946RrGrkf@https://royalheights-nz.rwoffice1.com/nz/
 massey/3468901/
DTSTAMP:20260421T194834Z
ATTENDEE:MAILTO:hannah.moloney@raywhite.com
DESCRIPTION:Open For Inspection Time\n		Massey\, 60 Moire Road\n		Property 
 Price: Price By NegotiationProperty Type: House\n		Beds: 3   Baths: 2   Ca
 r Spaces: 5\n\n		View details: https://royalheights-nz.rwoffice1.com/nz/ma
 ssey/3468901/\n\n		Agent: Hannah Moloney\n			 Email: hannah.moloney@raywhi
 te.com\n\n		Ray White recommends confirming the Open For Inspection Time t
 imes with the Agent\, to ensure they have not changed.
DTSTART:20260426T131500
DTEND:20260426T134500
LOCATION:Massey\, 60 Moire Road
SUMMARY:Inspection - Massey\, 60 Moire Road
END:VEVENT
END:VCALENDAR
