BEGIN:VCALENDAR
VERSION:2.0
PRODID:-//https://royalheights-nz.rwoffice1.com/nz/glen-eden/3469518///NONSGML kigkonsult.se iCalcreator 2.10.23//
BEGIN:VTIMEZONE
TZID:
END:VTIMEZONE
BEGIN:VEVENT
UID:20260421T180905UTC-8694OrvkBv@https://royalheights-nz.rwoffice1.com/nz/
 glen-eden/3469518/
DTSTAMP:20260421T180905Z
ATTENDEE:MAILTO:nadia.johnston@raywhite.com
DESCRIPTION:Open For Inspection Time\n		Glen Eden\, 4037A Great North Road
 \n		Property Price: Offers Over $899\,000Property Type: House\n		Beds: 4  
  Baths: 2   Car Spaces: 2\n\n		View details: https://royalheights-nz.rwoff
 ice1.com/nz/glen-eden/3469518/\n\n		Agent: Nadia Johnston\n			 Email: nadi
 a.johnston@raywhite.com\n\n		Ray White recommends confirming the Open For 
 Inspection Time times with the Agent\, to ensure they have not changed.
DTSTART:20260425T120000
DTEND:20260425T123000
LOCATION:Glen Eden\, 4037A Great North Road
SUMMARY:Inspection - Glen Eden\, 4037A Great North Road
END:VEVENT
END:VCALENDAR
