BEGIN:VCALENDAR
VERSION:2.0
PRODID:-//https://royalheights-nz.rwoffice1.com/nz/huapai/3479431///NONSGML kigkonsult.se iCalcreator 2.10.23//
BEGIN:VTIMEZONE
TZID:
END:VTIMEZONE
BEGIN:VEVENT
UID:20260421T194840UTC-36144e3BD9@https://royalheights-nz.rwoffice1.com/nz/
 huapai/3479431/
DTSTAMP:20260421T194840Z
ATTENDEE:MAILTO:karl.weller@raywhite.com
DESCRIPTION:Open For Inspection Time\n		Huapai\, 17A Trigg Road\n		Property
  Price: Price By NegotiationProperty Type: House\n		Beds: 4   Baths: 2   C
 ar Spaces: 11\n\n		View details: https://royalheights-nz.rwoffice1.com/nz/
 huapai/3479431/\n\n		Agent: Karl Weller\n			 Email: karl.weller@raywhite.c
 om\n\n		Ray White recommends confirming the Open For Inspection Time times
  with the Agent\, to ensure they have not changed.
DTSTART:20260425T131500
DTEND:20260425T134500
LOCATION:Huapai\, 17A Trigg Road
SUMMARY:Inspection - Huapai\, 17A Trigg Road
END:VEVENT
END:VCALENDAR
