BEGIN:VCALENDAR
VERSION:2.0
PRODID:-//https://royalheights-nz.rwoffice1.com/nz/te-atatu-peninsula/3480565///NONSGML kigkonsult.se iCalcreator 2.10.23//
BEGIN:VTIMEZONE
TZID:
END:VTIMEZONE
BEGIN:VEVENT
UID:20260421T194636UTC-6569EETPIO@https://royalheights-nz.rwoffice1.com/nz/
 te-atatu-peninsula/3480565/
DTSTAMP:20260421T194636Z
ATTENDEE:MAILTO:josh.grimstock@raywhite.com
DESCRIPTION:Open For Inspection Time\n		Te Atatu Peninsula\, 7/110 Kervil A
 venue\n		Property Price: $519\,000Property Type: House\n		Beds: 1   Baths:
  1   \n\n		View details: https://royalheights-nz.rwoffice1.com/nz/te-atatu
 -peninsula/3480565/\n\n		Agent: Josh Grimstock\n			 Email: josh.grimstock@
 raywhite.com\n			 Mobile: +64 22 061 3233\n			 Phone: +64 (9) 412 5808\n\n
 		Ray White recommends confirming the Open For Inspection Time times with 
 the Agent\, to ensure they have not changed.
DTSTART:20260426T100000
DTEND:20260426T103000
LOCATION:Te Atatu Peninsula\, 7/110 Kervil Avenue
SUMMARY:Inspection - Te Atatu Peninsula\, 7/110 Kervil Avenue
END:VEVENT
END:VCALENDAR
