BEGIN:VCALENDAR
VERSION:2.0
PRODID:-//https://royalheights-nz.rwoffice1.com/nz/west-harbour/3481085///NONSGML kigkonsult.se iCalcreator 2.10.23//
BEGIN:VTIMEZONE
TZID:
END:VTIMEZONE
BEGIN:VEVENT
UID:20260421T194738UTC-0822UG6vVl@https://royalheights-nz.rwoffice1.com/nz/
 west-harbour/3481085/
DTSTAMP:20260421T194738Z
ATTENDEE:MAILTO:farah.farahani@raywhite.com
DESCRIPTION:Open For Inspection Time\n		West Harbour\, 7 Cherub Place\n		Pr
 operty Price: Auction 29/04/26 At 11am (unless Sold Prior)Property Type: H
 ouse\n		Beds: 4   Baths: 2   Car Spaces: 6\n\n		View details: https://roya
 lheights-nz.rwoffice1.com/nz/west-harbour/3481085/\n\n		Agent: Farah Farah
 ani\n			 Email: farah.farahani@raywhite.com\n\n		Ray White recommends conf
 irming the Open For Inspection Time times with the Agent\, to ensure they 
 have not changed.
DTSTART:20260423T173000
DTEND:20260423T180000
LOCATION:West Harbour\, 7 Cherub Place
SUMMARY:Inspection - West Harbour\, 7 Cherub Place
END:VEVENT
END:VCALENDAR
