BEGIN:VCALENDAR
VERSION:2.0
PRODID:-//https://royalheights-nz.rwoffice1.com/nz/te-atatu-south/3494133///NONSGML kigkonsult.se iCalcreator 2.10.23//
BEGIN:VTIMEZONE
TZID:
END:VTIMEZONE
BEGIN:VEVENT
UID:20260421T180347UTC-1043kMhUPw@https://royalheights-nz.rwoffice1.com/nz/
 te-atatu-south/3494133/
DTSTAMP:20260421T180347Z
ATTENDEE:MAILTO:hachache@raywhite.com
DESCRIPTION:Open For Inspection Time\n		Te Atatu South\, 5/9 Flanshaw Road
 \n		Property Price: Enquiries Over $599\,000Property Type: House\n		Beds: 
 2   Baths: 1   Car Spaces: 1\n\n		View details: https://royalheights-nz.rw
 office1.com/nz/te-atatu-south/3494133/\n\n		Agent: Ronald and Natalie Hach
 ache\n			 Email: hachache@raywhite.com\n\n		Ray White recommends confirmin
 g the Open For Inspection Time times with the Agent\, to ensure they have 
 not changed.
DTSTART:20260426T144500
DTEND:20260426T151500
LOCATION:Te Atatu South\, 5/9 Flanshaw Road
SUMMARY:Inspection - Te Atatu South\, 5/9 Flanshaw Road
END:VEVENT
END:VCALENDAR
