BEGIN:VCALENDAR
VERSION:2.0
PRODID:-//https://royalheights-nz.rwoffice1.com/nz/henderson/3495123///NONSGML kigkonsult.se iCalcreator 2.10.23//
BEGIN:VTIMEZONE
TZID:
END:VTIMEZONE
BEGIN:VEVENT
UID:20260423T090958UTC-52651lKslX@https://royalheights-nz.rwoffice1.com/nz/
 henderson/3495123/
DTSTAMP:20260423T090958Z
ATTENDEE:MAILTO:sam.woods@raywhite.com
DESCRIPTION:Open For Inspection Time\n		Henderson\, 272 Sturges Road\n		Pro
 perty Price: Price By NegotiationProperty Type: House\n		Beds: 4   Baths: 
 2   Car Spaces: 10\n\n		View details: https://royalheights-nz.rwoffice1.co
 m/nz/henderson/3495123/\n\n		Agent: Sam Woods\n			 Email: sam.woods@raywhi
 te.com\n\n		Ray White recommends confirming the Open For Inspection Time t
 imes with the Agent\, to ensure they have not changed.
DTSTART:20260426T110000
DTEND:20260426T113000
LOCATION:Henderson\, 272 Sturges Road
SUMMARY:Inspection - Henderson\, 272 Sturges Road
END:VEVENT
END:VCALENDAR
